BEGIN:VCALENDAR
VERSION:2.0
PRODID:-//wp-events-plugin.com//6.5.2//EN
TZID:America/New_York
X-WR-TIMEZONE:America/New_York
BEGIN:VEVENT
UID:4@blackrewrite.com
DTSTART;TZID=America/New_York:20230914T190000
DTEND;TZID=America/New_York:20230914T200000
DTSTAMP:20240527T215051Z
URL:https://blackrewrite.com/events/liberation-writing-manifesting-your-fr
 eedom-dream/
SUMMARY:Liberation Writing: Manifesting Your Freedom Dream
DESCRIPTION:"Liberation Writing: Manifesting Your Freedom Dream\," a transf
 ormative writing workshop presented by Black Rewrite. Set for September 14
 \, 2023\, from 7 PM to 8 PM on Zoom\, this session aims to free your mind\
 , challenge boundaries\, and awaken your true potential. Participants will
  explore themes of freedom and self-discovery\, learning to use their word
 s as keys to inner liberation. Whether you're a seasoned writer or just st
 arting out\, join us to craft narratives that resonate\, inspire\, and lib
 erate.
ATTACH;FMTTYPE=image/jpeg:https://blackrewrite.com/wp-content/uploads/IMG_
 3924.jpg
END:VEVENT
BEGIN:VTIMEZONE
TZID:America/New_York
X-LIC-LOCATION:America/New_York
BEGIN:DAYLIGHT
DTSTART:20230312T030000
TZOFFSETFROM:-0500
TZOFFSETTO:-0400
TZNAME:EDT
END:DAYLIGHT
END:VTIMEZONE
END:VCALENDAR