BEGIN:VCALENDAR
VERSION:2.0
PRODID:-//wp-events-plugin.com//6.5.2//EN
TZID:America/New_York
X-WR-TIMEZONE:America/New_York
BEGIN:VEVENT
UID:3@blackrewrite.com
DTSTART;TZID=America/New_York:20231014T170000
DTEND;TZID=America/New_York:20231014T180000
DTSTAMP:20240527T215751Z
URL:https://blackrewrite.com/events/write-now-overcoming-procrastination-t
 o-unleash-your-literary-potential/
SUMMARY:Write Now: Overcoming Procrastination to Unleash Your Literary Pote
 ntial
DESCRIPTION:Join us for "Write Now: Overcoming Procrastination to Unleash Y
 our Literary Potential\," a transformative workshop on Saturday\, October 
 14\, from 5 PM to 6 PM on Zoom. This session is designed to help you break
  mental barriers and rediscover the joy of writing. Participants will lear
 n actionable strategies to push past mental blocks and start writing effor
 tlessly. With expert guidance and support from peers\, you'll unlock the p
 ower of your pen and gain practical rituals to maintain momentum and keep 
 the words flowing smoothly. Whether you're struggling to start or looking 
 to enhance your writing practice\, this workshop offers valuable technique
 s to keep you inspired and productive. Don’t miss this opportunity to el
 evate your writing journey!
ATTACH;FMTTYPE=image/jpeg:https://blackrewrite.com/wp-content/uploads/IMG_
 3926.jpg
END:VEVENT
BEGIN:VTIMEZONE
TZID:America/New_York
X-LIC-LOCATION:America/New_York
BEGIN:DAYLIGHT
DTSTART:20230312T030000
TZOFFSETFROM:-0500
TZOFFSETTO:-0400
TZNAME:EDT
END:DAYLIGHT
END:VTIMEZONE
END:VCALENDAR