BEGIN:VCALENDAR
VERSION:2.0
PRODID:-//wp-events-plugin.com//6.5.2//EN
TZID:America/New_York
X-WR-TIMEZONE:America/New_York
BEGIN:VEVENT
UID:1@blackrewrite.com
DTSTART;TZID=America/New_York:20230831T183000
DTEND;TZID=America/New_York:20230831T193000
DTSTAMP:20240527T223233Z
URL:https://blackrewrite.com/events/writing-with-a-purpose/
SUMMARY:Write It Up
DESCRIPTION:"Write It Up\," an engaging writing event presented by Black Re
 write. Set for August 31\, 2023\, from 6:30 PM to 7:30 PM on Zoom\, the ev
 ent invites writers to dive into a world of fun\, creativity\, networking\
 , and writing. Participants can laugh\, enjoy\, and revel in the power of 
 words\, let their imaginations run wild\, connect with a passionate commun
 ity\, and pen down their thoughts\, stories\, and dreams. Whether you’re
  an experienced writer or just starting out\, this evening promises to be 
 memorable. Bring your stories and join us for an inspiring session where e
 very word matters and every story counts
ATTACH;FMTTYPE=image/jpeg:https://blackrewrite.com/wp-content/uploads/IMG_
 3923.jpg
END:VEVENT
BEGIN:VTIMEZONE
TZID:America/New_York
X-LIC-LOCATION:America/New_York
BEGIN:DAYLIGHT
DTSTART:20230312T030000
TZOFFSETFROM:-0500
TZOFFSETTO:-0400
TZNAME:EDT
END:DAYLIGHT
END:VTIMEZONE
END:VCALENDAR