BEGIN:VCALENDAR
VERSION:2.0
PRODID:-//wp-events-plugin.com//6.5.2//EN
TZID:America/New_York
X-WR-TIMEZONE:America/New_York
BEGIN:VEVENT
UID:6@blackrewrite.com
DTSTART;TZID=America/New_York:20230928T190000
DTEND;TZID=America/New_York:20230928T200000
DTSTAMP:20240527T220238Z
URL:https://blackrewrite.com/events/writing-your-way-through-vulnerability
 /
SUMMARY:Unmasked Ink: Writing Your Way Through Vulnerability
DESCRIPTION:"Unmasked Ink: Writing Your Way Through Vulnerability\," a writ
 ing workshop by Black Rewrite. Scheduled for Thursday\, September 28\, fro
 m 7 PM to 8 PM on Zoom\, this event focuses on authentic storytelling and 
 embracing vulnerability. Participants will learn to break free from norms\
 , celebrate their unique voices\, and turn vulnerability into strength. Op
 en to all writers\, from beginners to experienced. For more information\, 
 visit blackrewrite.com or follow @black_rewrite on Instagram.
ATTACH;FMTTYPE=image/jpeg:https://blackrewrite.com/wp-content/uploads/IMG_
 3925.jpg
END:VEVENT
BEGIN:VTIMEZONE
TZID:America/New_York
X-LIC-LOCATION:America/New_York
BEGIN:DAYLIGHT
DTSTART:20230312T030000
TZOFFSETFROM:-0500
TZOFFSETTO:-0400
TZNAME:EDT
END:DAYLIGHT
END:VTIMEZONE
END:VCALENDAR